BEGIN:VCALENDAR
VERSION:2.0
PRODID:-//Fachschaft Philosophie - ECPv6.7.0//NONSGML v1.0//EN
CALSCALE:GREGORIAN
METHOD:PUBLISH
X-WR-CALNAME:Fachschaft Philosophie
X-ORIGINAL-URL:https://philo-fachschaft-koeln.de
X-WR-CALDESC:Veranstaltungen für Fachschaft Philosophie
REFRESH-INTERVAL;VALUE=DURATION:PT1H
X-Robots-Tag:noindex
X-PUBLISHED-TTL:PT1H
BEGIN:VTIMEZONE
TZID:Europe/Paris
BEGIN:DAYLIGHT
TZOFFSETFROM:+0100
TZOFFSETTO:+0200
TZNAME:CEST
DTSTART:20220327T010000
END:DAYLIGHT
BEGIN:STANDARD
TZOFFSETFROM:+0200
TZOFFSETTO:+0100
TZNAME:CET
DTSTART:20221030T010000
END:STANDARD
END:VTIMEZONE
BEGIN:VEVENT
DTSTART;TZID=Europe/Paris:20220602T193000
DTEND;TZID=Europe/Paris:20220602T233000
DTSTAMP:20260424T204730
CREATED:20220517T110503Z
LAST-MODIFIED:20220517T110503Z
UID:1325-1654198200-1654212600@philo-fachschaft-koeln.de
SUMMARY:PhiloFrei: "Überzeitl[ich] - Zwischen Identität und Erinnerung"
DESCRIPTION:Ihr seid verwirrt\, weil ihr nicht mehr wisst\, wo ihr euer Fahrrad noch parken dürft? Sie haben gesagt\, alles wird „wie früher“\, aber die Nudelbar in MG Nord ist immer noch nicht wieder auf?\nWir haben da was für euch\, das hilft bestimmt: 1 PhiloFrei! MAJA MOBIS erzählt euch was über euch (von uns aus „euch“ = von euch aus „ich“) und hat dazu gleich zwei Respondenzen (aufregend!): YVES SCHWARZE und FELIX ZIPP.\nDanach gibt es Wein. Wie früher. Alles wieder gut.
URL:https://philo-fachschaft-koeln.de/event/philofrei-ueberzeitlich-zwischen-identitaet-und-erinnerung
LOCATION:4.016\, Albertus Magnus Platz\, Köln
CATEGORIES:Philosophiert Frei!
END:VEVENT
END:VCALENDAR