BEGIN:VCALENDAR
VERSION:2.0
PRODID:-//Fachschaft Philosophie - ECPv6.7.0//NONSGML v1.0//EN
CALSCALE:GREGORIAN
METHOD:PUBLISH
X-WR-CALNAME:Fachschaft Philosophie
X-ORIGINAL-URL:https://philo-fachschaft-koeln.de
X-WR-CALDESC:Veranstaltungen für Fachschaft Philosophie
REFRESH-INTERVAL;VALUE=DURATION:PT1H
X-Robots-Tag:noindex
X-PUBLISHED-TTL:PT1H
BEGIN:VTIMEZONE
TZID:Europe/Paris
BEGIN:DAYLIGHT
TZOFFSETFROM:+0100
TZOFFSETTO:+0200
TZNAME:CEST
DTSTART:20220327T010000
END:DAYLIGHT
BEGIN:STANDARD
TZOFFSETFROM:+0200
TZOFFSETTO:+0100
TZNAME:CET
DTSTART:20221030T010000
END:STANDARD
END:VTIMEZONE
BEGIN:VEVENT
DTSTART;TZID=Europe/Paris:20220506T193000
DTEND;TZID=Europe/Paris:20220506T220000
DTSTAMP:20260424T222033
CREATED:20220413T083100Z
LAST-MODIFIED:20220413T083100Z
UID:1315-1651865400-1651874400@philo-fachschaft-koeln.de
SUMMARY:Philmabend: Ex Machina
DESCRIPTION:AHHHHHHHHHHHHH. Es passiert. Nach Jahren des Wartens wird das Hörsaal-Kino XIb wiedereröffnet. Christian Feldbacher-Escamilla schaut mit uns Ex Machina. Der Ablauf wie folgt: eintreten\, hinsetzen\, Philm schauen\, in der Anschlussdiskussion hoffen\, dass das Philo-Name-Dropping-Game noch so smooth läuft wie vor Coroni. Dann ein Bieri trinken gehen\, um zu verarbeiten was gerade geschehen gewesen sein wird.
URL:https://philo-fachschaft-koeln.de/event/philmabend-ex-machina
CATEGORIES:Philmabend
END:VEVENT
END:VCALENDAR